BEGIN:VCALENDAR
VERSION:2.0
PRODID:-//Washington County Health Department - ECPv6.15.20//NONSGML v1.0//EN
CALSCALE:GREGORIAN
METHOD:PUBLISH
X-WR-CALNAME:Washington County Health Department
X-ORIGINAL-URL:https://washcohealth.org
X-WR-CALDESC:Events for Washington County Health Department
REFRESH-INTERVAL;VALUE=DURATION:PT1H
X-Robots-Tag:noindex
X-PUBLISHED-TTL:PT1H
BEGIN:VTIMEZONE
TZID:America/New_York
BEGIN:DAYLIGHT
TZOFFSETFROM:-0500
TZOFFSETTO:-0400
TZNAME:EDT
DTSTART:20240310T070000
END:DAYLIGHT
BEGIN:STANDARD
TZOFFSETFROM:-0400
TZOFFSETTO:-0500
TZNAME:EST
DTSTART:20241103T060000
END:STANDARD
BEGIN:DAYLIGHT
TZOFFSETFROM:-0500
TZOFFSETTO:-0400
TZNAME:EDT
DTSTART:20250309T070000
END:DAYLIGHT
BEGIN:STANDARD
TZOFFSETFROM:-0400
TZOFFSETTO:-0500
TZNAME:EST
DTSTART:20251102T060000
END:STANDARD
BEGIN:DAYLIGHT
TZOFFSETFROM:-0500
TZOFFSETTO:-0400
TZNAME:EDT
DTSTART:20260308T070000
END:DAYLIGHT
BEGIN:STANDARD
TZOFFSETFROM:-0400
TZOFFSETTO:-0500
TZNAME:EST
DTSTART:20261101T060000
END:STANDARD
END:VTIMEZONE
BEGIN:VEVENT
DTSTART;TZID=America/New_York:20250606T090000
DTEND;TZID=America/New_York:20250606T163000
DTSTAMP:20260423T142235
CREATED:20250529T043102Z
LAST-MODIFIED:20250529T043102Z
UID:55473-1749200400-1749227400@washcohealth.org
SUMMARY:FREE Conference - United in Compassion: Cultivating Empathy Within Our Communities
DESCRIPTION: A full day of inspiration and connection featuring dynamic speakers\, interactive workshops and valuable networking opportunities.\nThis training qualifies for 5.25 Category I social work continuing education units. Peer Support/Recovery Specialists will receive 5.25 continuing education credits. Attendees must be present for the entire conference in order to qualify for CEUs.\nRegister by calling 240-313-3310.
URL:https://washcohealth.org/event/free-conference-united-in-compassion-cultivating-empathy-within-our-communities/
LOCATION:Washington County Public Safety Training Center\, 18350 Public Safety Pl\, Hagerstown\, MD\, 21740\, United States
ATTACH;FMTTYPE=image/png:https://washcohealth.org/wp-content/uploads/2025/05/Screenshot-384.png
END:VEVENT
BEGIN:VEVENT
DTSTART;TZID=America/New_York:20250613T083000
DTEND;TZID=America/New_York:20250613T150000
DTSTAMP:20260423T142236
CREATED:20250529T022754Z
LAST-MODIFIED:20250529T022754Z
UID:55463-1749803400-1749826800@washcohealth.org
SUMMARY:FREE Sexual Health Summit
DESCRIPTION:A valuable opportunity for community members\, professionals and educators to learn\, connect and engage in meaningful conversations about sexual health and wellness.\n– Inspiring speaker sessions\n– Real-world strategies for promoting sexual health\n– Networking opportunities\n– Free resources and giveaways\nLunch will be provided. Attendees who complete the entire summit will be offered 3.75 Social Work CEUs.\nRegistration Required – Call 240-313-3310 to register.
URL:https://washcohealth.org/event/free-sexual-health-summit/
LOCATION:Washington County Public Safety Training Center\, 18350 Public Safety Pl\, Hagerstown\, MD\, 21740\, United States
ATTACH;FMTTYPE=image/png:https://washcohealth.org/wp-content/uploads/2025/05/Protect.-Respect.-Connect.-art.png
END:VEVENT
BEGIN:VEVENT
DTSTART;TZID=America/New_York:20250625T160000
DTEND;TZID=America/New_York:20250625T190000
DTSTAMP:20260423T142236
CREATED:20250623T023415Z
LAST-MODIFIED:20250623T023538Z
UID:60214-1750867200-1750878000@washcohealth.org
SUMMARY:FREE Bike Rodeo & Safety Day
DESCRIPTION:
URL:https://washcohealth.org/event/free-bike-rodeo-safety-day/
LOCATION:Pangborn Elementary School\, 195 Pangborn Blvd.\, Hagerstown\, MD\, 21740\, United States
ATTACH;FMTTYPE=image/png:https://washcohealth.org/wp-content/uploads/2025/06/Copy-of-Child-Safety-Day-Flyer.png
END:VEVENT
END:VCALENDAR