BEGIN:VCALENDAR
VERSION:2.0
PRODID:-//Washington County Health Department - ECPv6.15.20//NONSGML v1.0//EN
CALSCALE:GREGORIAN
METHOD:PUBLISH
X-ORIGINAL-URL:https://washcohealth.org
X-WR-CALDESC:Events for Washington County Health Department
REFRESH-INTERVAL;VALUE=DURATION:PT1H
X-Robots-Tag:noindex
X-PUBLISHED-TTL:PT1H
BEGIN:VTIMEZONE
TZID:America/New_York
BEGIN:DAYLIGHT
TZOFFSETFROM:-0500
TZOFFSETTO:-0400
TZNAME:EDT
DTSTART:20240310T070000
END:DAYLIGHT
BEGIN:STANDARD
TZOFFSETFROM:-0400
TZOFFSETTO:-0500
TZNAME:EST
DTSTART:20241103T060000
END:STANDARD
BEGIN:DAYLIGHT
TZOFFSETFROM:-0500
TZOFFSETTO:-0400
TZNAME:EDT
DTSTART:20250309T070000
END:DAYLIGHT
BEGIN:STANDARD
TZOFFSETFROM:-0400
TZOFFSETTO:-0500
TZNAME:EST
DTSTART:20251102T060000
END:STANDARD
BEGIN:DAYLIGHT
TZOFFSETFROM:-0500
TZOFFSETTO:-0400
TZNAME:EDT
DTSTART:20260308T070000
END:DAYLIGHT
BEGIN:STANDARD
TZOFFSETFROM:-0400
TZOFFSETTO:-0500
TZNAME:EST
DTSTART:20261101T060000
END:STANDARD
END:VTIMEZONE
BEGIN:VEVENT
DTSTART;TZID=America/New_York:20251001T170000
DTEND;TZID=America/New_York:20251001T183000
DTSTAMP:20260423T142234
CREATED:20250910T185715Z
LAST-MODIFIED:20250910T214136Z
UID:72228-1759338000-1759343400@washcohealth.org
SUMMARY:Walk Maryland Day Event and Walk
DESCRIPTION:Kick off Walktober and join the Washington County Health Department and\nHagerstown Parks & Rec for our Walk Maryland Day Event and Walk! \nWCHD staff will lead walks every 30 min at 5:15 p.m.\, 5:40 p.m.\, & 6:10 p.m. \nLocal vendors will be set up to provide resources on physical activity\, healthy eating\, hypertension\, diabetes and more! \n(Rain Date will be Oct. 8th)
URL:https://washcohealth.org/event/walk-maryland-day-event-and-walk/
LOCATION:Hagerstown Fairgrounds Park\, 351 N. Cleveland Ave\, Hagerstown\, MD\, 21740\, United States
ATTACH;FMTTYPE=image/png:https://washcohealth.org/wp-content/uploads/2025/09/walktober-flyer-4.png
END:VEVENT
END:VCALENDAR