BEGIN:VCALENDAR
VERSION:2.0
PRODID:-//Washington County Health Department - ECPv6.15.20//NONSGML v1.0//EN
CALSCALE:GREGORIAN
METHOD:PUBLISH
X-WR-CALNAME:Washington County Health Department
X-ORIGINAL-URL:https://washcohealth.org
X-WR-CALDESC:Events for Washington County Health Department
REFRESH-INTERVAL;VALUE=DURATION:PT1H
X-Robots-Tag:noindex
X-PUBLISHED-TTL:PT1H
BEGIN:VTIMEZONE
TZID:America/New_York
BEGIN:DAYLIGHT
TZOFFSETFROM:-0500
TZOFFSETTO:-0400
TZNAME:EDT
DTSTART:20240310T070000
END:DAYLIGHT
BEGIN:STANDARD
TZOFFSETFROM:-0400
TZOFFSETTO:-0500
TZNAME:EST
DTSTART:20241103T060000
END:STANDARD
BEGIN:DAYLIGHT
TZOFFSETFROM:-0500
TZOFFSETTO:-0400
TZNAME:EDT
DTSTART:20250309T070000
END:DAYLIGHT
BEGIN:STANDARD
TZOFFSETFROM:-0400
TZOFFSETTO:-0500
TZNAME:EST
DTSTART:20251102T060000
END:STANDARD
BEGIN:DAYLIGHT
TZOFFSETFROM:-0500
TZOFFSETTO:-0400
TZNAME:EDT
DTSTART:20260308T070000
END:DAYLIGHT
BEGIN:STANDARD
TZOFFSETFROM:-0400
TZOFFSETTO:-0500
TZNAME:EST
DTSTART:20261101T060000
END:STANDARD
END:VTIMEZONE
BEGIN:VEVENT
DTSTART;TZID=America/New_York:20250910T170000
DTEND;TZID=America/New_York:20250910T190000
DTSTAMP:20260423T142236
CREATED:20250904T163853Z
LAST-MODIFIED:20250904T164214Z
UID:71986-1757523600-1757530800@washcohealth.org
SUMMARY:Ready\, Set\, Ride! Bike Rodeo
DESCRIPTION:Join us for our Bike Rodeos at The YMCA Pavilion.\nSept. 10 & 18 at 5pm to 7pm\nKids bring your bike and helmet for a day of learning about bike safety\, fun activities and more!\n– Bike checks\n– Helmet fittings\n– Bike skill course\n– Bike Safety Kits for kids who complete all activities. includes: educational materials\, activity book\, reflective tape\, safety flag\, bike lock\, bell\, light\, first aid kit and more!
URL:https://washcohealth.org/event/ready-set-ride-bike-rodeo/
LOCATION:Hagerstown YMCA\, 1100 Eastern Blvd N\, Hagerstown\, MD\, 21742\, United States
ATTACH;FMTTYPE=image/png:https://washcohealth.org/wp-content/uploads/2025/09/Bike-Rodeo-Flyers-.png
END:VEVENT
END:VCALENDAR