BEGIN:VCALENDAR
VERSION:2.0
PRODID:-//Washington County Health Department - ECPv6.15.20//NONSGML v1.0//EN
CALSCALE:GREGORIAN
METHOD:PUBLISH
X-ORIGINAL-URL:https://washcohealth.org
X-WR-CALDESC:Events for Washington County Health Department
REFRESH-INTERVAL;VALUE=DURATION:PT1H
X-Robots-Tag:noindex
X-PUBLISHED-TTL:PT1H
BEGIN:VTIMEZONE
TZID:America/New_York
BEGIN:DAYLIGHT
TZOFFSETFROM:-0500
TZOFFSETTO:-0400
TZNAME:EDT
DTSTART:20240310T070000
END:DAYLIGHT
BEGIN:STANDARD
TZOFFSETFROM:-0400
TZOFFSETTO:-0500
TZNAME:EST
DTSTART:20241103T060000
END:STANDARD
BEGIN:DAYLIGHT
TZOFFSETFROM:-0500
TZOFFSETTO:-0400
TZNAME:EDT
DTSTART:20250309T070000
END:DAYLIGHT
BEGIN:STANDARD
TZOFFSETFROM:-0400
TZOFFSETTO:-0500
TZNAME:EST
DTSTART:20251102T060000
END:STANDARD
BEGIN:DAYLIGHT
TZOFFSETFROM:-0500
TZOFFSETTO:-0400
TZNAME:EDT
DTSTART:20260308T070000
END:DAYLIGHT
BEGIN:STANDARD
TZOFFSETFROM:-0400
TZOFFSETTO:-0500
TZNAME:EST
DTSTART:20261101T060000
END:STANDARD
END:VTIMEZONE
BEGIN:VEVENT
DTSTART;TZID=America/New_York:20250718T120000
DTEND;TZID=America/New_York:20250718T140000
DTSTAMP:20260423T142312
CREATED:20250623T040234Z
LAST-MODIFIED:20250623T040459Z
UID:60224-1752840000-1752847200@washcohealth.org
SUMMARY:Healthy Families Washington County Pool Party
DESCRIPTION:Participants in Healthy Families Washington County\nare invited to a pool party!\nFriday\, July 18\, Noon-2 p.m.\nByron Memorial Park pool\, Williamsport\, Md.\n  \nPlease RSVP by July 9\, to your Family Support Specialist
URL:https://washcohealth.org/event/healthy-families-washington-county-pool-party/
LOCATION:Byron Memorial Park\, 11 Park Road\, Williamsport\, MD\, United States
ATTACH;FMTTYPE=image/png:https://washcohealth.org/wp-content/uploads/2025/06/July-2025-Pool-Group.pdf.png
END:VEVENT
END:VCALENDAR