BEGIN:VCALENDAR
VERSION:2.0
PRODID:-//Washington County Health Department - ECPv6.15.20//NONSGML v1.0//EN
CALSCALE:GREGORIAN
METHOD:PUBLISH
X-ORIGINAL-URL:https://washcohealth.org
X-WR-CALDESC:Events for Washington County Health Department
REFRESH-INTERVAL;VALUE=DURATION:PT1H
X-Robots-Tag:noindex
X-PUBLISHED-TTL:PT1H
BEGIN:VTIMEZONE
TZID:America/New_York
BEGIN:DAYLIGHT
TZOFFSETFROM:-0500
TZOFFSETTO:-0400
TZNAME:EDT
DTSTART:20170312T070000
END:DAYLIGHT
BEGIN:STANDARD
TZOFFSETFROM:-0400
TZOFFSETTO:-0500
TZNAME:EST
DTSTART:20171105T060000
END:STANDARD
BEGIN:DAYLIGHT
TZOFFSETFROM:-0500
TZOFFSETTO:-0400
TZNAME:EDT
DTSTART:20180311T070000
END:DAYLIGHT
BEGIN:STANDARD
TZOFFSETFROM:-0400
TZOFFSETTO:-0500
TZNAME:EST
DTSTART:20181104T060000
END:STANDARD
BEGIN:DAYLIGHT
TZOFFSETFROM:-0500
TZOFFSETTO:-0400
TZNAME:EDT
DTSTART:20190310T070000
END:DAYLIGHT
BEGIN:STANDARD
TZOFFSETFROM:-0400
TZOFFSETTO:-0500
TZNAME:EST
DTSTART:20191103T060000
END:STANDARD
END:VTIMEZONE
BEGIN:VEVENT
DTSTART;TZID=America/New_York:20180818T090000
DTEND;TZID=America/New_York:20180818T120000
DTSTAMP:20260423T073933
CREATED:20180731T161110Z
LAST-MODIFIED:20180801T155415Z
UID:1548-1534582800-1534593600@washcohealth.org
SUMMARY:9th Annual West End Back-to-School Block Party
DESCRIPTION:Everyone is invited!!!\nJoin us at the parking lot behind Washington Square United Methodist Church for a back-to-school celebration! This event will include: \n\nFree hot dogs\, chips\, drinks\, popcorn\nFree backpack\, including earbuds\, for all school-age children while supplies last (child must be accompanied by parent or guardian)\nFree raffle for $25 gift card to Five Below (only school-age children receiving a backpack are eligible for drawing)\nGames and prizes\nFace painting\nBalloon Sculptures\nFamily Healthcare of Hagerstown\, Washington County Health Department\, + other Community Resources\nFree giveaways\nHagerstown Police Department K-9 demonstration\nPrayer Tent\nMusic\n\nand more . . . \n  \nStop by our tables to learn about all the wonderful programs we have to offer.  FREE and confidential HIV testing will be available at this event for all those who are interested. \nPlanning Committee:  Washington Square United Methodist Church\, St. Mark’s Lutheran Church\, Grace United Methodist Church\, The Salvation Army\, Girls Inc.\, Family Healthcare of Hagerstown\, Western Enterprise Fire Company #4\, Hagerstown Police Department \nContact:  Elaine Rose at 301-730-0750 or gerose@verizon.net
URL:https://washcohealth.org/event/9th-annual-west-end-back-to-school-block-party/
LOCATION:Washington Square United Methodist Church\, 538 Washington Avenue\, Hagerstown\, MD\, 21740\, United States
END:VEVENT
END:VCALENDAR