BEGIN:VCALENDAR
VERSION:2.0
PRODID:-//Washington County Health Department - ECPv6.15.20//NONSGML v1.0//EN
CALSCALE:GREGORIAN
METHOD:PUBLISH
X-WR-CALNAME:Washington County Health Department
X-ORIGINAL-URL:https://washcohealth.org
X-WR-CALDESC:Events for Washington County Health Department
REFRESH-INTERVAL;VALUE=DURATION:PT1H
X-Robots-Tag:noindex
X-PUBLISHED-TTL:PT1H
BEGIN:VTIMEZONE
TZID:America/New_York
BEGIN:DAYLIGHT
TZOFFSETFROM:-0500
TZOFFSETTO:-0400
TZNAME:EDT
DTSTART:20170312T070000
END:DAYLIGHT
BEGIN:STANDARD
TZOFFSETFROM:-0400
TZOFFSETTO:-0500
TZNAME:EST
DTSTART:20171105T060000
END:STANDARD
BEGIN:DAYLIGHT
TZOFFSETFROM:-0500
TZOFFSETTO:-0400
TZNAME:EDT
DTSTART:20180311T070000
END:DAYLIGHT
BEGIN:STANDARD
TZOFFSETFROM:-0400
TZOFFSETTO:-0500
TZNAME:EST
DTSTART:20181104T060000
END:STANDARD
BEGIN:DAYLIGHT
TZOFFSETFROM:-0500
TZOFFSETTO:-0400
TZNAME:EDT
DTSTART:20190310T070000
END:DAYLIGHT
BEGIN:STANDARD
TZOFFSETFROM:-0400
TZOFFSETTO:-0500
TZNAME:EST
DTSTART:20191103T060000
END:STANDARD
END:VTIMEZONE
BEGIN:VEVENT
DTSTART;TZID=America/New_York:20180807T173000
DTEND;TZID=America/New_York:20180807T203000
DTSTAMP:20260423T073833
CREATED:20180801T151721Z
LAST-MODIFIED:20180801T154627Z
UID:1576-1533663000-1533673800@washcohealth.org
SUMMARY:Hagerstown National Night Out
DESCRIPTION:National Night Out is an annual community building campaign that promotes police-community partnerships and neighborhood camaraderie to make our neighborhoods a safer\, better place to live. \nCome join us at this event for fun activities\, food and community resources. A prescription drug take-back will be going on so bring your unused\, unneeded and expired prescription drugs to be disposed of properly and safely.
URL:https://washcohealth.org/event/hagerstown-national-night-out/
LOCATION:Hagerstown Fairgrounds Park\, 351 N. Cleveland Ave\, Hagerstown\, MD\, 21740\, United States
END:VEVENT
END:VCALENDAR