BEGIN:VCALENDAR
VERSION:2.0
PRODID:-//Washington County Health Department - ECPv6.15.20//NONSGML v1.0//EN
CALSCALE:GREGORIAN
METHOD:PUBLISH
X-ORIGINAL-URL:https://washcohealth.org
X-WR-CALDESC:Events for Washington County Health Department
REFRESH-INTERVAL;VALUE=DURATION:PT1H
X-Robots-Tag:noindex
X-PUBLISHED-TTL:PT1H
BEGIN:VTIMEZONE
TZID:America/New_York
BEGIN:DAYLIGHT
TZOFFSETFROM:-0500
TZOFFSETTO:-0400
TZNAME:EDT
DTSTART:20170312T070000
END:DAYLIGHT
BEGIN:STANDARD
TZOFFSETFROM:-0400
TZOFFSETTO:-0500
TZNAME:EST
DTSTART:20171105T060000
END:STANDARD
BEGIN:DAYLIGHT
TZOFFSETFROM:-0500
TZOFFSETTO:-0400
TZNAME:EDT
DTSTART:20180311T070000
END:DAYLIGHT
BEGIN:STANDARD
TZOFFSETFROM:-0400
TZOFFSETTO:-0500
TZNAME:EST
DTSTART:20181104T060000
END:STANDARD
BEGIN:DAYLIGHT
TZOFFSETFROM:-0500
TZOFFSETTO:-0400
TZNAME:EDT
DTSTART:20190310T070000
END:DAYLIGHT
BEGIN:STANDARD
TZOFFSETFROM:-0400
TZOFFSETTO:-0500
TZNAME:EST
DTSTART:20191103T060000
END:STANDARD
END:VTIMEZONE
BEGIN:VEVENT
DTSTART;TZID=America/New_York:20180714T120000
DTEND;TZID=America/New_York:20180714T180000
DTSTAMP:20260423T060129
CREATED:20180622T192051Z
LAST-MODIFIED:20180622T192051Z
UID:1215-1531569600-1531591200@washcohealth.org
SUMMARY:Hagerstown Pride Festival 2018
DESCRIPTION:Come join us at Hagerstown Hopes 7th Annual Hagerstown Pride Festival! The festival will have live entertainment\, vendors\, speakers\, food\, and more! \nStop by our table to learn about all the programs and services we offer for the community and for free and confidential HIV testing. \n 
URL:https://washcohealth.org/event/hagerstown-pride-festival-2018/
LOCATION:Downtown Central Parking Lot\, 14 N Potomac street\, HAGERSTOWN\, MD\, 21742\, United States
END:VEVENT
END:VCALENDAR