BEGIN:VCALENDAR
VERSION:2.0
PRODID:-//Washington County Health Department - ECPv6.15.20//NONSGML v1.0//EN
CALSCALE:GREGORIAN
METHOD:PUBLISH
X-WR-CALNAME:Washington County Health Department
X-ORIGINAL-URL:https://washcohealth.org
X-WR-CALDESC:Events for Washington County Health Department
REFRESH-INTERVAL;VALUE=DURATION:PT1H
X-Robots-Tag:noindex
X-PUBLISHED-TTL:PT1H
BEGIN:VTIMEZONE
TZID:America/New_York
BEGIN:DAYLIGHT
TZOFFSETFROM:-0500
TZOFFSETTO:-0400
TZNAME:EDT
DTSTART:20170312T070000
END:DAYLIGHT
BEGIN:STANDARD
TZOFFSETFROM:-0400
TZOFFSETTO:-0500
TZNAME:EST
DTSTART:20171105T060000
END:STANDARD
BEGIN:DAYLIGHT
TZOFFSETFROM:-0500
TZOFFSETTO:-0400
TZNAME:EDT
DTSTART:20180311T070000
END:DAYLIGHT
BEGIN:STANDARD
TZOFFSETFROM:-0400
TZOFFSETTO:-0500
TZNAME:EST
DTSTART:20181104T060000
END:STANDARD
BEGIN:DAYLIGHT
TZOFFSETFROM:-0500
TZOFFSETTO:-0400
TZNAME:EDT
DTSTART:20190310T070000
END:DAYLIGHT
BEGIN:STANDARD
TZOFFSETFROM:-0400
TZOFFSETTO:-0500
TZNAME:EST
DTSTART:20191103T060000
END:STANDARD
END:VTIMEZONE
BEGIN:VEVENT
DTSTART;TZID=America/New_York:20180710T073000
DTEND;TZID=America/New_York:20180710T090000
DTSTAMP:20260423T073802
CREATED:20180615T175959Z
LAST-MODIFIED:20180621T152630Z
UID:1016-1531207800-1531213200@washcohealth.org
SUMMARY:Community Walk Audit - Downtown Hagerstown
DESCRIPTION:Check out the event on Facebook! \nJoin us for a community walk audit in downtown Hagerstown. What is a walk audit? A walk audit is where a group of people walk around an area and rate how walkable it is\, meaning how easy and pleasant is it to walk there. We hope to conduct walk audits in downtown areas around Washington County and we’re starting with downtown Hagerstown. The goal is to assess how walkable Washington County is and to find ways that walkability can be improved in the county. \nFree breakfast will be offered at 7:30am at the Washington County Chamber of Commerce at 1 South Potomac St. \nThe walk will start there and begin at 8:00am. The walk is about a mile and will incorporate part of the Hagerstown Cultural Trail \nEveryone is welcome to participate! \nWe hope you’ll join us for this fun community walk!
URL:https://washcohealth.org/event/community-walk-audit-downtown-hagerstown/
LOCATION:Washinton County Chamber of Commerce\, 1 S Potomac St.\, Hagerstown\, MD\, 21740\, United States
ATTACH;FMTTYPE=image/jpeg:https://washcohealth.org/wp-content/uploads/2018/06/cultural-trail-Slide_Walk-the-Trail_ver2-e1529085531184.jpg
END:VEVENT
END:VCALENDAR